BEGIN:VCALENDAR
VERSION:2.0
PRODID:icalendar-ruby
CALSCALE:GREGORIAN
METHOD:PUBLISH
BEGIN:VEVENT
DTSTAMP:20260421T093508Z
UID:514-4796@collingwoodunitedchurch.ca
DTSTART:20260426T143000Z
DTEND:20260426T160000Z
CLASS:PUBLIC
CREATED:20260420T110301
DESCRIPTION:You can bring a salad or dessert to supplement the hot dogs if 
 you wish!\nMoney raised will be used to sponsor campers to any of our thre
 e United Church camps in this region: Silver Lake\, Camp Bimini or Camp Me
 nestung.\nAny excess raised will be divided amongst the 3 camps to help wi
 th their expenses.\n 
LAST-MODIFIED:20260420T110301
LOCATION:
SUMMARY:BBQ Hot dogs! 
URL;VALUE=URI:https://www.collingwoodunitedchurch.ca/events/bbq-hot-dogs/20
 26-04-26
ATTACH;FILENAME=Camping CELEBRATE.png;FMTTYPE=image/png:https://dq5pwpg1q8r
 u0.cloudfront.net/2026/04/20/14/59/37/0f80caa1-0173-4181-b98e-84191b8746fe
 /Camping%20CELEBRATE.png
ATTACH;FILENAME=Camping Love.png;FMTTYPE=image/png:https://dq5pwpg1q8ru0.cl
 oudfront.net/2026/04/20/15/00/48/0c61bad7-c653-48d3-9291-d53527b4a213/Camp
 ing%20Love.png
END:VEVENT
END:VCALENDAR
